BEGIN:VCALENDAR
VERSION:2.0
PRODID:-//Carry The Cross Ministries - ECPv6.15.20//NONSGML v1.0//EN
CALSCALE:GREGORIAN
METHOD:PUBLISH
X-ORIGINAL-URL:https://carrythecross.org
X-WR-CALDESC:Events for Carry The Cross Ministries
REFRESH-INTERVAL;VALUE=DURATION:PT1H
X-Robots-Tag:noindex
X-PUBLISHED-TTL:PT1H
BEGIN:VTIMEZONE
TZID:UTC
BEGIN:STANDARD
TZOFFSETFROM:+0000
TZOFFSETTO:+0000
TZNAME:UTC
DTSTART:20210101T000000
END:STANDARD
END:VTIMEZONE
BEGIN:VEVENT
DTSTART;TZID=UTC:20221112T170000
DTEND;TZID=UTC:20221112T210000
DTSTAMP:20260424T152607
CREATED:20220526T194425Z
LAST-MODIFIED:20220526T211748Z
UID:1179-1668272400-1668286800@carrythecross.org
SUMMARY:Night To Remember | Gala 2022
DESCRIPTION:
URL:https://carrythecross.org/event/a-night-to-remember-gala-2022/
LOCATION:KS
CATEGORIES:Foundation Events
ATTACH;FMTTYPE=image/jpeg:https://carrythecross.org/wp-content/uploads/2022/05/gala21_26.jpg
ORGANIZER;CN="On Eagle's Wings Farm":MAILTO:jason@oneagleswingsfarm.org
END:VEVENT
BEGIN:VEVENT
DTSTART;TZID=UTC:20220808T073000
DTEND;TZID=UTC:20220808T073000
DTSTAMP:20260424T152607
CREATED:20220526T194717Z
LAST-MODIFIED:20220526T212240Z
UID:1184-1659943800-1659943800@carrythecross.org
SUMMARY:Charity Golf Tournament
DESCRIPTION:
URL:https://carrythecross.org/event/charity-golf-tournament/
LOCATION:Ironhorse Golf Club\, 15400 Mission Rd\, Leawood\, KS\, 66224
CATEGORIES:Foundation Events
ATTACH;FMTTYPE=image/jpeg:https://carrythecross.org/wp-content/uploads/2022/05/ctcgolf.jpg
END:VEVENT
END:VCALENDAR